BEGIN:VCALENDAR
VERSION:2.0
PRODID:-//Rokmer Pharma Ltd - ECPv6.15.17.1//NONSGML v1.0//EN
CALSCALE:GREGORIAN
METHOD:PUBLISH
X-ORIGINAL-URL:https://rokmerpharma.com
X-WR-CALDESC:Events for Rokmer Pharma Ltd
REFRESH-INTERVAL;VALUE=DURATION:PT1H
X-Robots-Tag:noindex
X-PUBLISHED-TTL:PT1H
BEGIN:VTIMEZONE
TZID:Africa/Accra
BEGIN:STANDARD
TZOFFSETFROM:+0000
TZOFFSETTO:+0000
TZNAME:GMT
DTSTART:20240101T000000
END:STANDARD
END:VTIMEZONE
BEGIN:VEVENT
DTSTART;VALUE=DATE:20250929
DTEND;VALUE=DATE:20250930
DTSTAMP:20260421T101509
CREATED:20250828T074551Z
LAST-MODIFIED:20250828T075207Z
UID:3939-1759104000-1759190399@rokmerpharma.com
SUMMARY:Yellow Saturday & Homowo Activities
DESCRIPTION:Yellow Saturday\, sponsored by Rokmer Pharma\, is a highlight of this year’s Homowo celebrations in Gbawe. The event features the Gbawe Homowo Health Walk\, organized by the Gbawe Youth Alliance in collaboration with the Gbawe Kwatei Family. \nActivities will run from August 29 to September 1\, 2025\, with highlights including: \n\n\nHealth screenings and fitness activities \n\n\nA youth development dialogue on digital opportunities \n\n\nCultural and traditional displays to mark the Homowo festival \n\n\n \n 
URL:https://rokmerpharma.com/event/yellow-saturday-homowo-activities/
ATTACH;FMTTYPE=image/jpeg:https://rokmerpharma.com/wp-content/uploads/2025/08/IMG-20250827-WA0002.jpg
END:VEVENT
BEGIN:VEVENT
DTSTART;TZID=Africa/Accra:20250605T160000
DTEND;TZID=Africa/Accra:20250605T200000
DTSTAMP:20260421T101509
CREATED:20250605T131139Z
LAST-MODIFIED:20250605T131426Z
UID:3624-1749139200-1749153600@rokmerpharma.com
SUMMARY:Rokmer Pharma Sponsors the 38th Annual General Meeting of Ghana Co-operative Pharmacists' Credit Union
DESCRIPTION:Rokmer Pharma Ltd is proud to be one of the featured sponsors of the 38th Annual General Meeting (AGM) of the Ghana Co-operative Pharmacists’ Credit Union Limited (GCPCU)\, taking place on Wednesday\, June 5\, 2025\, at Accra Ridge Church Conference Hall at 4:00 PM. \nOur commitment to excellence in pharmaceutical distribution and healthcare solutions makes this partnership timely and impactful. As part of our sponsorship\, Rokmer Pharma’s brand and product artwork have been prominently featured in the official AGM brochure — a publication distributed to cooperative pharmacists and key industry stakeholders across Ghana. \nThis sponsorship is a reflection of our support for the healthcare financing ecosystem and our ongoing mission to connect with professionals and cooperatives driving pharmaceutical innovation and access nationwide. \n🔹 What to Expect at the Event:\n\n\nPresentations on GCPCU’s financial growth and member benefits \n\n\nRecognition of partner institutions including Rokmer Pharma \n\n\nNetworking opportunities with pharmacists\, suppliers\, and healthcare stakeholders \n\n\nOfficial distribution of the 2025 Annual Report Brochure \n\n\n📎 Download the AGM Brochure\n👉 Click here to view/download the brochure (PDF) \n✅ Why This Matters to Rokmer\nBeing a sponsor of this high-level industry event reaffirms our position as a trusted pharmaceutical partner in Ghana. Through such collaborations\, Rokmer continues to build strong ties within the cooperative and professional health community — sharing our mission to deliver trusted\, high-quality health products to every corner of Ghana.
URL:https://rokmerpharma.com/event/rokmer-pharma-sponsors-the-38th-annual-general-meeting-of-ghana-co-operative-pharmacists-credit-union/
LOCATION:Accra Ridge Church (ARC) Conference Hall\, Accra\, Greater Accra\, 0023321\, Ghana
ATTACH;FMTTYPE=image/jpeg:https://rokmerpharma.com/wp-content/uploads/2025/06/Ghana-Co-operative-Pharmacists-Credit-Union-Limited-GCPCU-Rokmer-Pharma-Ltd.jpg
ORGANIZER;CN="Ghana Co-operative Pharmacists' Credit Union":MAILTO:info@gcpculgh.com
END:VEVENT
BEGIN:VEVENT
DTSTART;VALUE=DATE:20250528
DTEND;VALUE=DATE:20250529
DTSTAMP:20260421T101509
CREATED:20250528T085131Z
LAST-MODIFIED:20250528T085131Z
UID:3547-1748390400-1748476799@rokmerpharma.com
SUMMARY:Rokmer Pharma to Showcase Products at Upcoming OTC Meeting
DESCRIPTION:Rokmer Pharma Ltd is proud to announce its participation in the upcoming Over-the-Counter (OTC) Stakeholders Meeting at Exhibition Roundabout opp. Bread of Life Church\, where we will exhibit a wide range of our trusted pharmaceutical and wellness products. \nThis event offers us a valuable platform to engage with healthcare professionals\, distributors\, and key industry players. Our team will be available to provide in-depth information about our retail and wholesale offerings\, product innovations\, and health solutions tailored for the Ghanaian market. \nWe invite all stakeholders and health-conscious participants to visit our exhibition stand\, learn more about our mission\, and explore how Rokmer Pharma continues to contribute to accessible and quality healthcare. \nStay tuned for more updates and highlights from the event!
URL:https://rokmerpharma.com/event/rokmer-pharma-to-showcase-products-at-upcoming-otc-meeting/
LOCATION:Exhibition Round About\, Dansoman\, Accra\, Greater Accra\, 0023321\, Ghana
ATTACH;FMTTYPE=image/jpeg:https://rokmerpharma.com/wp-content/uploads/2024/09/IMG-20240922-WA0002.jpg
ORGANIZER;CN="Over The Counter Medicine Association":MAILTO:info.rokmerpharma@gmail.com
END:VEVENT
END:VCALENDAR